BEGIN:VCALENDAR
VERSION:2.0
PRODID:-//ChamberMaster//Event Calendar 2.0//EN
METHOD:PUBLISH
X-PUBLISHED-TTL:P3D
REFRESH-INTERVAL:P3D
CALSCALE:GREGORIAN
BEGIN:VEVENT
DTSTART:20260515T160000Z
DTEND:20260515T170000Z
X-MICROSOFT-CDO-ALLDAYEVENT:FALSE
SUMMARY:Lunch N Learn with Flagstar Bank
DESCRIPTION:Join us for an informative and engaging Lunch & Learn hosted in partnership with Flagstar Bank on Friday\, May 15\, 2026\, at 12:00 PM at the Chamber of Commerce.\n\nThis complimentary session is designed to provide valuable insights for professionals\, entrepreneurs\, and anyone looking to strengthen their financial future all while enjoying light refreshments with fellow members.\n\nWhat we'll cover:\n\n\n	Mortgage Education & Programs (with a focus on first-time homebuyers)\n\n	Presented by Jason Stilner\, Mortgage Loan Advisor\n	Financial Planning Strategies including retirement\, legacy planning\, and exit strategies for business owners\n\n	Presented by Carlos Castaneda\, Financial Consultant & Certified Financial Planner\n	Flagstar Business Solutions tailored for small business owners\n\n	Presented by Christina Scott\, Branch Leader\n\n\nWhy attend?\n\n\n	Gain practical\, expert-led insights you can apply immediately whether you're buying a home\, planning your future\, or growing a business.\n	Connect with trusted financial professionals and fellow Chamber members in a relaxed\, collaborative setting.\n	Take advantage of this free opportunity to access resources and strategies that can help you make smarter financial decisions.\n\n\nThis event is free and open to all Chamber members\, but space may be limited be sure to reserve your spot early.\n\nWe look forward to seeing you there!
X-ALT-DESC;FMTTYPE=text/html:<p class="isSelectedEnd">Join us for an informative and engaging Lunch &amp\; Learn hosted in partnership with Flagstar Bank on Friday\, May 15\, 2026\, at 12:00 PM at the Chamber of Commerce.</p>\n\n<p class="isSelectedEnd">This complimentary session is designed to provide valuable insights for professionals\, entrepreneurs\, and anyone looking to strengthen their financial future&mdash\;all while enjoying light refreshments with fellow members.</p>\n\n<p class="isSelectedEnd"><strong>What we&rsquo\;ll cover:</strong></p>\n\n<ul data-spread="false">\n	<li><strong>Mortgage Education &amp\; Programs</strong> (with a focus on first-time homebuyers)<br />\n	<em>Presented by Jason Stilner\, Mortgage Loan Advisor</em></li>\n	<li><strong>Financial Planning Strategies</strong> including retirement\, legacy planning\, and exit strategies for business owners<br />\n	<em>Presented by Carlos Castaneda\, Financial Consultant &amp\; Certified Financial Planner</em></li>\n	<li><strong>Flagstar Business Solutions</strong> tailored for small business owners<br />\n	<em>Presented by Christina Scott\, Branch Leader</em></li>\n</ul>\n\n<p class="isSelectedEnd"><strong>Why attend?</strong></p>\n\n<ol data-spread="false" start="1">\n	<li>Gain practical\, expert-led insights you can apply immediately&mdash\;whether you&#39\;re buying a home\, planning your future\, or growing a business.</li>\n	<li>Connect with trusted financial professionals and fellow Chamber members in a relaxed\, collaborative setting.</li>\n	<li>Take advantage of this free opportunity to access resources and strategies that can help you make smarter financial decisions.</li>\n</ol>\n\n<p class="isSelectedEnd">This event is <strong>free and open to all Chamber members</strong>\, but space may be limited&mdash\;be sure to reserve your spot early.</p>\n\n<p>We look forward to seeing you there!</p>\n
LOCATION:12PM - 1PM GHCC Conference Room 330 N Federal Highway Hollywood FL 33020
UID:e.488.19914
SEQUENCE:3
DTSTAMP:20260424T185345Z
URL:https://chamber.hollywoodchamber.org/events/details/lunch-n-learn-with-flagstar-bank-19914
END:VEVENT

END:VCALENDAR
